BEGIN:VCALENDAR
VERSION:2.0
PRODID:-//eventon.com NONSGML v1.0//EN
CALSCALE:GREGORIAN
METHOD:PUBLISH
BEGIN:VEVENT
UID:69e7377d8b002
DTSTAMP:20260421T083821Z
DTSTART:20240612T100000Z
DTEND:20240612T120000Z
LOCATION:Gat van Peursum (bij kinderboerderij)
SUMMARY:Ritje in Paardentram
DESCRIPTION:\nhttps://paardenmarkt-rijnsburg.nl/events/ritje-in-paardentram
 /
URL:https://paardenmarkt-rijnsburg.nl/events/ritje-in-paardentram/
END:VEVENT
END:VCALENDAR